BEGIN:VCALENDAR
VERSION:2.0
PRODID:SchoolNow
CALSCALE:GREGORIAN
BEGIN:VEVENT
UID:e2d0e9f2-527d-11ee-b96d-0e79d28d0c19
DTSTAMP:20240405T171651Z
SUMMARY:CDD Board Meeting - Apr. 2024
LOCATION:Lakeshore Ranch Clubhouse\, 19730 Sundance Lake Blvd.\, Land O' La
 kes\, Florida 34638
URL;VALUE=URI:https://www.lakeshoreranch.net/calendar/4731789/cdd-board-mee
 ting-apr-2024
DTSTART:20240409T223000Z
DTEND:20240410T003000Z
ATTACH;FILENAME=2024-04-09 LSR Meeting Agenda v2.pdf;FMTTYPE=application/pd
 f:https://campussuite-storage.s3.amazonaws.com/prod/1558793/0aead64a-a7de-
 11e9-a1d7-0a9ba80c3a40/2767277/05e41e80-f370-11ee-992b-025ee24b5243/file/2
 024-04-09 LSR Meeting Agenda v2.pdf
END:VEVENT
END:VCALENDAR
