BEGIN:VCALENDAR
VERSION:2.0
PRODID:SchoolNow
CALSCALE:GREGORIAN
BEGIN:VEVENT
UID:17d751e0-527e-11ee-927d-0a58a9feac02
DTSTAMP:20240904T010442Z
SUMMARY:CDD Board Meeting - Sept. 2024
LOCATION:Lakeshore Ranch Clubhouse\, 19730 Sundance Lake Blvd.\, Land O' La
 kes\, Florida 34638
URL;VALUE=URI:https://www.lakeshoreranch.net/calendar/4731794/cdd-board-mee
 ting-sept-2024
DTSTART:20240910T223000Z
DTEND:20240911T003000Z
ATTACH;FILENAME=2024-09-10 LSR Meeting Agenda.pdf;FMTTYPE=application/pdf:h
 ttps://campussuite-storage.s3.amazonaws.com/prod/1558793/0aead64a-a7de-11e
 9-a1d7-0a9ba80c3a40/2841278/a53a6b00-6a59-11ef-9978-0affc6b4c37b/file/2024
 -09-10 LSR Meeting Agenda.pdf
END:VEVENT
END:VCALENDAR
